BEGIN:VCALENDAR
VERSION:2.0
PRODID:-//ChamberMaster//Event Calendar 2.0//EN
METHOD:PUBLISH
X-PUBLISHED-TTL:P3D
REFRESH-INTERVAL:P3D
CALSCALE:GREGORIAN
BEGIN:VEVENT
DTSTART;VALUE=DATE:20170918
DTEND;VALUE=DATE:20170919
TRANSP:TRANSPARENT
X-MICROSOFT-CDO-ALLDAYEVENT:TRUE
SUMMARY:10th Annual Memorial Golf Tournament
DESCRIPTION:The Kenny Wolfe Foundation will host our 10th annual memorial golf tournament at Cobblestone Park in Blythewood on Monday September 18\, 2017.  The tournament is 4-man Captain Choice with a 9:00 am shotgun start.  Cost for entry is $100.00 each player.  Breakfast and lunch as well as snacks and beverages will be provided free of charge during the tournament. \n\n There are various sponsorship opportunites available from placing items in the goodie bags\, and tee box sponsors.    Please vist our web site at www.kennywolfefoundation.com for more information on the tournament and on the foundation.   DID YOU KNOW? Teen fatalities are the number one killer of young people between the ages of 15-24 years old?  Also\, 72% of parents can not afford to bury their child should they lose them.  The Kenny Wolfe Foundation is committed to helping as many familes as possible with these expenses.  However\, we can not do that without your help.  Please consider a donation today.
X-ALT-DESC;FMTTYPE=text/html:The Kenny Wolfe Foundation will host our 10th annual memorial golf tournament at Cobblestone Park in Blythewood on Monday September 18\, 2017. &nbsp\;The tournament is 4-man Captain Choice with a 9:00 am shotgun start. &nbsp\;Cost for entry is $100.00 each player. &nbsp\;Breakfast and lunch as well as snacks and beverages will be provided free of charge during the tournament.&nbsp\;<br />\n&nbsp\;There are various sponsorship opportunites available from placing items in the goodie bags\, and tee box sponsors. &nbsp\; &nbsp\;Please vist our web site at <a href="http://www.kennywolfefoundation.com">www.kennywolfefoundation.com </a>for more information on the tournament and on the foundation. &nbsp\;<strong> DID YOU KNOW?</strong> Teen fatalities are the number one killer of young people between the ages of 15-24 years old? &nbsp\;Also\, 72% of parents can not afford to bury their child should they lose them. &nbsp\;The Kenny Wolfe Foundation is committed to helping as many familes as possible with these expenses. &nbsp\;However\, we can not do that without your help. &nbsp\;Please consider a donation today.&nbsp\;
LOCATION:Cobblestone Park 280 University Club Parkway\, Blythewood SC 29016
UID:e.1333.2903
SEQUENCE:3
DTSTAMP:20260424T095257Z
URL:https://business.greaterirmochamber.com/events/details/10th-annual-memorial-golf-tournament-2903
END:VEVENT

END:VCALENDAR
