BEGIN:VCALENDAR
VERSION:2.0
PRODID:-//ChamberMaster//Event Calendar 2.0//EN
METHOD:PUBLISH
X-PUBLISHED-TTL:P3D
REFRESH-INTERVAL:P3D
CALSCALE:GREGORIAN
BEGIN:VEVENT
DTSTART:20260131T003000Z
DTEND:20260201T024500Z
X-MICROSOFT-CDO-ALLDAYEVENT:FALSE
SUMMARY:12 Angry Jurors
DESCRIPTION:A seemingly open-and-shut murder case unravels as twelve jurors must confront their own biases and doubts in this powerful courtroom drama about justice\, prejudice\, and the importance of reasonable doubt. Based on the television movie\, 12 Angry Men. Show Dates: January 23 - February 1 Performance Times: Fridays and Saturdays at 7:30 PM\, Sundays at 3:00 PM
X-ALT-DESC;FMTTYPE=text/html:A seemingly open-and-shut murder case unravels as twelve jurors must confront their own biases and doubts in this powerful courtroom drama about justice\, prejudice\, and the importance of reasonable doubt. Based on the television movie\, 12 Angry Men. Show Dates: January 23 - February 1 Performance Times: Fridays and Saturdays at 7:30 PM\, Sundays at 3:00 PM
LOCATION:Village Square Theatre\, 105 Caughman Rd\, Lexington\, SC 29072
UID:e.1333.6481
SEQUENCE:3
DTSTAMP:20260422T185515Z
URL:https://business.greaterirmochamber.com/events/details/12-angry-jurors-6481
END:VEVENT

END:VCALENDAR
