BEGIN:VCALENDAR
VERSION:2.0
PRODID:-//ChamberMaster//Event Calendar 2.0//EN
METHOD:PUBLISH
X-PUBLISHED-TTL:P3D
REFRESH-INTERVAL:P3D
CALSCALE:GREGORIAN
BEGIN:VEVENT
DTSTART;VALUE=DATE:20161028
DTEND;VALUE=DATE:20161029
TRANSP:TRANSPARENT
X-MICROSOFT-CDO-ALLDAYEVENT:TRUE
SUMMARY:16th Annual Sertoma Charity Golf Tournament
DESCRIPTION:Benefiting Palmetto State Base Camp & Camp Sertoma of South Carolina
X-ALT-DESC;FMTTYPE=text/html:Benefiting Palmetto State Base Camp &amp\; Camp Sertoma of South Carolina
LOCATION:Columbia Country Club 135 Columbia Club Dr. Blythewood\, SC 29016
UID:e.1333.2478
SEQUENCE:3
DTSTAMP:20260425T003114Z
URL:https://business.greaterirmochamber.com/events/details/16th-annual-sertoma-charity-golf-tournament-2478
END:VEVENT

END:VCALENDAR
