BEGIN:VCALENDAR
VERSION:2.0
PRODID:-//ChamberMaster//Event Calendar 2.0//EN
METHOD:PUBLISH
X-PUBLISHED-TTL:P3D
REFRESH-INTERVAL:P3D
CALSCALE:GREGORIAN
BEGIN:VEVENT
DTSTART;VALUE=DATE:20180401
DTEND;VALUE=DATE:20180402
TRANSP:TRANSPARENT
X-MICROSOFT-CDO-ALLDAYEVENT:TRUE
SUMMARY:Javis Tax Service 20 Anniversary Celebration!
DESCRIPTION:We are celebrating our 20th Year Anniversary and I just wanted to give back to so many who have supported a small woman owned business through the years. Please share if you do not have to file taxes! Look forward to serving you! 2 Locations to serve you 9557 Two Notch Rd & 7130 Broad River Rd in Irmo. 803-851-7112
X-ALT-DESC;FMTTYPE=text/html:<span style="background-color:rgb(255\, 255\, 255)\; color:rgb(51\, 51\, 51)\; font-family:system-ui\,-apple-system\,blinkmacsystemfont\,helveticaneue\,helvetica neue\,helvetica\,roboto\,segoe ui\,arial\,sans-serif\; font-size:14px">We are celebrating our 20th Year Anniversary and I just wanted to give back to so many who have supported a small woman owned business through the years. Please share if you do not have to file taxes! Look forward to serving you! 2 Locations to serve you 9557 Two Notch Rd &amp\; 7130 Broad River Rd in Irmo. 803-851-7112</span>
LOCATION:7130 Broad River Rd Ste B Irmo SC 29063
UID:e.1333.2972
SEQUENCE:3
DTSTAMP:20260423T210909Z
URL:https://business.greaterirmochamber.com/events/details/20-anniversary-celebration-04-01-2018-2972
END:VEVENT

END:VCALENDAR
