BEGIN:VCALENDAR
VERSION:2.0
PRODID:-//ChamberMaster//Event Calendar 2.0//EN
METHOD:PUBLISH
X-PUBLISHED-TTL:P3D
REFRESH-INTERVAL:P3D
CALSCALE:GREGORIAN
BEGIN:VEVENT
DTSTART:20170224T233000Z
DTEND:20170225T040000Z
X-MICROSOFT-CDO-ALLDAYEVENT:FALSE
SUMMARY:2017 Greater Irmo Chamber Awards Night & Gala
DESCRIPTION:The Annual Greater Irmo Chamber Awards Night and Gala will be held on Friday\, February 24\, 2017\, at the Columbia Conference Center. This is an evening of celebration and recognition for those who support the Greater Irmo Chamber throughout the year.
X-ALT-DESC;FMTTYPE=text/html:<span style="color: rgb(33\, 33\, 33)\; font-family: 'Century Gothic'\, 'ITC Avant Garde'\, Arial\, Helvetica\, sans-serif\; font-size: 14.666666984558105px\; text-align: -webkit-center\; white-space: pre-wrap\;">The Annual Greater Irmo Chamber </span><em style="color: rgb(33\, 33\, 33)\; font-family: 'Century Gothic'\, 'ITC Avant Garde'\, Arial\, Helvetica\, sans-serif\; font-size: 14.666666984558105px\; text-align: -webkit-center\; white-space: pre-wrap\;">Awards Night and Gala will be held on Friday\, February 24\, 2017\,</em><span style="color: rgb(33\, 33\, 33)\; font-family: 'Century Gothic'\, 'ITC Avant Garde'\, Arial\, Helvetica\, sans-serif\; font-size: 14.666666984558105px\; text-align: -webkit-center\; white-space: pre-wrap\;"> at the Columbia Conference Center. This is an evening of celebration and recognition for those who support the Greater Irmo Chamber throughout the year. </span>
LOCATION:169 Laurelhurst Ave\, Columbia\, SC 29210
UID:e.1333.2508
SEQUENCE:3
DTSTAMP:20260424T184358Z
URL:https://business.greaterirmochamber.com/events/details/2017-greater-irmo-chamber-awards-night-gala-2508
END:VEVENT

END:VCALENDAR
