BEGIN:VCALENDAR
VERSION:2.0
PRODID:-//ChamberMaster//Event Calendar 2.0//EN
METHOD:PUBLISH
X-PUBLISHED-TTL:P3D
REFRESH-INTERVAL:P3D
CALSCALE:GREGORIAN
BEGIN:VEVENT
DTSTART:20171207T223000Z
DTEND:20171208T003000Z
X-MICROSOFT-CDO-ALLDAYEVENT:FALSE
SUMMARY:2017 Holiday Oyster Roast
DESCRIPTION:Join us for our Annual Holiday Oyster Roast!  We'll have plenty of oysters to shuck.  Chili\, hot dogs\, beer\, wine and lots of Chamber fellowship.
X-ALT-DESC;FMTTYPE=text/html:Join us for our Annual Holiday Oyster Roast! &nbsp\;We&#39\;ll have plenty of oysters to shuck. &nbsp\;Chili\, hot dogs\, beer\, wine and lots of Chamber fellowship. &nbsp\;
LOCATION:Beautiful Lake Murray (call the Chamber for directions 803-749-9355)
UID:e.1333.2929
SEQUENCE:3
DTSTAMP:20260424T051518Z
URL:https://business.greaterirmochamber.com/events/details/2017-holiday-oyster-roast-2929
END:VEVENT

END:VCALENDAR
