BEGIN:VCALENDAR
VERSION:2.0
PRODID:-//ChamberMaster//Event Calendar 2.0//EN
METHOD:PUBLISH
X-PUBLISHED-TTL:P3D
REFRESH-INTERVAL:P3D
CALSCALE:GREGORIAN
BEGIN:VEVENT
DTSTART:20170420T160000Z
DTEND:20170420T233000Z
X-MICROSOFT-CDO-ALLDAYEVENT:FALSE
SUMMARY:2017 Irmo Chamber Golf Tournament
DESCRIPTION:Join us for our annual Golf Tournament with lunch provided by Chick-fil-A/Ballentine and 19th Hole sponsored by Carrabba's Italian Grill.
X-ALT-DESC;FMTTYPE=text/html:Join us for our annual Golf Tournament with lunch provided by Chick-fil-A/Ballentine and 19th Hole sponsored by Carrabba&#39\;s Italian Grill.&nbsp\;
LOCATION:Mid Carolina Club 3593 Kiblers Bridge Road Prosperity\, SC
UID:e.1333.2531
SEQUENCE:3
DTSTAMP:20260424T155225Z
URL:https://business.greaterirmochamber.com/events/details/2017-irmo-chamber-golf-tournament-2531
END:VEVENT

END:VCALENDAR
