BEGIN:VCALENDAR
VERSION:2.0
PRODID:-//ChamberMaster//Event Calendar 2.0//EN
METHOD:PUBLISH
X-PUBLISHED-TTL:P3D
REFRESH-INTERVAL:P3D
CALSCALE:GREGORIAN
BEGIN:VEVENT
DTSTART:20170607T153000Z
DTEND:20170607T170000Z
X-MICROSOFT-CDO-ALLDAYEVENT:FALSE
SUMMARY:2017 June Chamber Luncheon
DESCRIPTION:Please join us for our June Chamber Luncheon.  Richland County Sheriff Leon Lott will be our speaker and Carolina Ale House will serve lunch. Thank you to All South Federal Credit Union for sponsoring this event!
X-ALT-DESC;FMTTYPE=text/html:Please join us for our June Chamber Luncheon. &nbsp\;Richland County Sheriff Leon Lott will be our speaker and Carolina Ale House will serve lunch. Thank you to All South Federal Credit Union for sponsoring this event!
LOCATION:St. Andrews Presbyterian Church 6952 St. Andrews Road Columbia\, SC 29212
UID:e.1333.2559
SEQUENCE:3
DTSTAMP:20260424T124944Z
URL:https://business.greaterirmochamber.com/events/details/2017-june-chamber-luncheon-2559
END:VEVENT

END:VCALENDAR
