BEGIN:VCALENDAR
VERSION:2.0
PRODID:-//ChamberMaster//Event Calendar 2.0//EN
METHOD:PUBLISH
X-PUBLISHED-TTL:P3D
REFRESH-INTERVAL:P3D
CALSCALE:GREGORIAN
BEGIN:VEVENT
DTSTART:20180414T130000Z
DTEND:20180414T130000Z
X-MICROSOFT-CDO-ALLDAYEVENT:FALSE
SUMMARY:2018 Bark To The Park
DESCRIPTION:The Bark to the Park is one of Pawmetto Lifeline's largest fundraising efforts.  Proceeds from this event benefit their life saving programs.  This is a fun filled family event that helps to save homeless pets across the Midlands!  Special thanks to presenting sponsor McDaniels Subaru of Columbia.
X-ALT-DESC;FMTTYPE=text/html:The Bark to the Park is one of Pawmetto Lifeline&#39\;s largest fundraising efforts. &nbsp\;Proceeds from this event benefit their life saving programs. &nbsp\;This is a fun filled family event that helps to save homeless pets across the Midlands! &nbsp\;Special thanks to presenting sponsor McDaniels Subaru of Columbia.
LOCATION:Finlay Park Columbia\, SC
UID:e.1333.2948
SEQUENCE:3
DTSTAMP:20260423T210915Z
URL:https://business.greaterirmochamber.com/events/details/2018-bark-to-the-park-2948
END:VEVENT

END:VCALENDAR
