BEGIN:VCALENDAR
VERSION:2.0
PRODID:-//ChamberMaster//Event Calendar 2.0//EN
METHOD:PUBLISH
X-PUBLISHED-TTL:P3D
REFRESH-INTERVAL:P3D
CALSCALE:GREGORIAN
BEGIN:VEVENT
DTSTART:20180619T213000Z
DTEND:20180619T233000Z
X-MICROSOFT-CDO-ALLDAYEVENT:FALSE
SUMMARY:2018 Chamberopoly Business Expo
DESCRIPTION:Join us for our Annual Chamberopoly Business Expo!  This is a fun showcase of businesses from the Irmo business community and beyond.  Cash Bar.  Complimentary food.  Raffle for door prizes!
X-ALT-DESC;FMTTYPE=text/html:Join us for our <strong>Annual Chamberopoly Business Expo</strong>! &nbsp\;This is a fun showcase of businesses from the Irmo business community and beyond. &nbsp\;Cash Bar. &nbsp\;Complimentary food. &nbsp\;Raffle for door prizes!
LOCATION:Hilton Garden Inn 434 Columbiana Drive Columbia\, SC 29212
UID:e.1333.3003
SEQUENCE:3
DTSTAMP:20260423T180405Z
URL:https://business.greaterirmochamber.com/events/details/2018-chamberopoly-business-expo-3003
END:VEVENT

END:VCALENDAR
