BEGIN:VCALENDAR
VERSION:2.0
PRODID:-//ChamberMaster//Event Calendar 2.0//EN
METHOD:PUBLISH
X-PUBLISHED-TTL:P3D
REFRESH-INTERVAL:P3D
CALSCALE:GREGORIAN
BEGIN:VEVENT
DTSTART:20181204T223000Z
DTEND:20181205T003000Z
X-MICROSOFT-CDO-ALLDAYEVENT:FALSE
SUMMARY:2018 Holiday Oyster Roast on the Lake!
DESCRIPTION:Join us for our Annual Holiday Oyster Roast!  We'll have plenty of oysters to shuck.  Chili\, hot dogs\, beer\, wine and lots of Chamber fellowship.  Very special thanks to the Woodmen Life Lodge for hosting our event this year and to Charles Moore and his team for cooking our oysters!
X-ALT-DESC;FMTTYPE=text/html:Join us for our Annual Holiday Oyster Roast! &nbsp\;We&#39\;ll have plenty of oysters to shuck. &nbsp\;Chili\, hot dogs\, beer\, wine and lots of Chamber fellowship. &nbsp\;Very special thanks to the Woodmen Life Lodge for hosting our event this year and to Charles Moore and his team for cooking our oysters!
LOCATION:The Woodmen Life Lodge on beautiful Lake Murray! 2000 Johnson Marina Rd. Chapin\, SC 29036
UID:e.1333.3285
SEQUENCE:3
DTSTAMP:20260423T092048Z
URL:https://business.greaterirmochamber.com/events/details/2018-holiday-oyster-roast-on-the-lake-3285
END:VEVENT

END:VCALENDAR
