BEGIN:VCALENDAR
VERSION:2.0
PRODID:-//ChamberMaster//Event Calendar 2.0//EN
METHOD:PUBLISH
X-PUBLISHED-TTL:P3D
REFRESH-INTERVAL:P3D
CALSCALE:GREGORIAN
BEGIN:VEVENT
DTSTART:20180927T210000Z
DTEND:20180928T000000Z
X-MICROSOFT-CDO-ALLDAYEVENT:FALSE
SUMMARY:2018 Irmo Chamber Corn Hole Tournament
DESCRIPTION:Come out and compete for bragging rights and a tacky trophy at the Second Annual Irmo Chamber Corn Hole Tournament!
X-ALT-DESC;FMTTYPE=text/html:Come out and compete for bragging rights and a tacky trophy at the <strong>Second Annual Irmo Chamber Corn Hole Tournament</strong>!
LOCATION:Catfish Johnny's (Lighthouse Marina) 1925 Johnson Marina Road\, Chapin
UID:e.1333.3251
SEQUENCE:3
DTSTAMP:20260423T132639Z
URL:https://business.greaterirmochamber.com/events/details/2018-irmo-chamber-corn-hole-tournament-3251
END:VEVENT

END:VCALENDAR
