BEGIN:VCALENDAR
VERSION:2.0
PRODID:-//ChamberMaster//Event Calendar 2.0//EN
METHOD:PUBLISH
X-PUBLISHED-TTL:P3D
REFRESH-INTERVAL:P3D
CALSCALE:GREGORIAN
BEGIN:VEVENT
DTSTART:20180412T160000Z
DTEND:20180412T233000Z
X-MICROSOFT-CDO-ALLDAYEVENT:FALSE
SUMMARY:2018 Irmo Chamber Golf Tournament
DESCRIPTION:Join us for the 2018 Greater Irmo Chamber Golf Tournament!  19th Hole and Awards sponsored by Carrabba's Italian Grill!
X-ALT-DESC;FMTTYPE=text/html:Join us for the <strong>2018 Greater Irmo Chamber Golf Tournament</strong>! &nbsp\;19th&nbsp\;Hole and Awards sponsored by Carrabba&#39\;s&nbsp\;Italian Grill!
LOCATION:Mid Carolina Club 3593 Kiblers Bridge Road Prosperity\, SC 29127
UID:e.1333.2981
SEQUENCE:3
DTSTAMP:20260423T211105Z
URL:https://business.greaterirmochamber.com/events/details/2018-irmo-chamber-golf-tournament-2981
END:VEVENT

END:VCALENDAR
