BEGIN:VCALENDAR
VERSION:2.0
PRODID:-//ChamberMaster//Event Calendar 2.0//EN
METHOD:PUBLISH
X-PUBLISHED-TTL:P3D
REFRESH-INTERVAL:P3D
CALSCALE:GREGORIAN
BEGIN:VEVENT
DTSTART:20180210T160000Z
DTEND:20180210T180000Z
X-MICROSOFT-CDO-ALLDAYEVENT:FALSE
SUMMARY:2018 Lake Murray Polar Bear Plunge
DESCRIPTION:Come take the plunge in Lake Murray to benefit Special Olympics South Carolina and the Law Enforcement Torch Run for Special Olympics!
X-ALT-DESC;FMTTYPE=text/html:Come take the plunge in Lake Murray to benefit Special Olympics South Carolina and the Law Enforcement Torch Run for Special Olympics!
LOCATION:Lake Murray Beach Park-Lexington (Lexington side of the Dam)
UID:e.1333.2949
SEQUENCE:3
DTSTAMP:20260424T020512Z
URL:https://business.greaterirmochamber.com/events/details/2018-lake-murray-polar-bear-plunge-2949
END:VEVENT

END:VCALENDAR
