BEGIN:VCALENDAR
VERSION:2.0
PRODID:-//ChamberMaster//Event Calendar 2.0//EN
METHOD:PUBLISH
X-PUBLISHED-TTL:P3D
REFRESH-INTERVAL:P3D
CALSCALE:GREGORIAN
BEGIN:VEVENT
DTSTART:20180524T220000Z
DTEND:20180525T010000Z
X-MICROSOFT-CDO-ALLDAYEVENT:FALSE
SUMMARY:2018 Red White & Blues Wine Walk
DESCRIPTION:Join us for a beautiful evening of wine\, food and live music in the park!\n\n\n\nTICKETS ARE AVAILABLE AT THE PARK THIS EVENING!!
X-ALT-DESC;FMTTYPE=text/html:Join us for a beautiful evening of wine\, food and live music in the park!<br />\n<br />\n<span style="font-size:20px\;">TICKETS ARE AVAILABLE AT THE PARK THIS EVENING!!</span>
LOCATION:Irmo Town Park 1249 Lexington Ave. Irmo\, SC 29063
UID:e.1333.2986
SEQUENCE:3
DTSTAMP:20260423T194108Z
URL:https://business.greaterirmochamber.com/events/details/2018-red-white-blues-wine-walk-2986
END:VEVENT

END:VCALENDAR
