BEGIN:VCALENDAR
VERSION:2.0
PRODID:-//ChamberMaster//Event Calendar 2.0//EN
METHOD:PUBLISH
X-PUBLISHED-TTL:P3D
REFRESH-INTERVAL:P3D
CALSCALE:GREGORIAN
BEGIN:VEVENT
DTSTART:20190301T233000Z
DTEND:20190302T040000Z
X-MICROSOFT-CDO-ALLDAYEVENT:FALSE
SUMMARY:2019 Greater Irmo Chamber Awards Night & Gala
DESCRIPTION:The Annual Greater Irmo Chamber Awards Night and Gala will be held on Friday\, March 1\, 2019. This year\, the Doubletree By Hilton will host us at their newly renovated facility and it will be a glamorous evening of fun for all including cocktails\, dinner\, dancing and casino-style entertainment! We'll also have a brief awards presentation to recognize those businesses and individuals who have supported the Greater Irmo Chamber this year! Black Tie Optional. Special thanks to Shaw Industries for being our presenting sponsor this year!!
X-ALT-DESC;FMTTYPE=text/html:<span style="color: rgb(33\, 33\, 33)\; font-family: 'Century Gothic'\, 'ITC Avant Garde'\, Arial\, Helvetica\, sans-serif\; font-size: 14.666666984558105px\; text-align: -webkit-center\; white-space: pre-wrap\;">The <strong><em>Annual Greater Irmo Chamber </em></strong></span><strong><em><em style="color: rgb(33\, 33\, 33)\; font-family: 'Century Gothic'\, 'ITC Avant Garde'\, Arial\, Helvetica\, sans-serif\; font-size: 14.666666984558105px\; text-align: -webkit-center\; white-space: pre-wrap\;">Awards Nigh</em></em></strong><em style="color: rgb(33\, 33\, 33)\; font-family: 'Century Gothic'\, 'ITC Avant Garde'\, Arial\, Helvetica\, sans-serif\; font-size: 14.666666984558105px\; text-align: -webkit-center\; white-space: pre-wrap\;"><strong><em>t and Gala</em></strong> will be held on <strong>Friday\, March 1\, 2019. </strong></em><em style="color: rgb(33\, 33\, 33)\; font-family: 'Century Gothic'\, 'ITC Avant Garde'\, Arial\, Helvetica\, sans-serif\; font-size: 14.666666984558105px\; text-align: -webkit-center\; white-space: pre-wrap\;">This year</em><em style="color: rgb(33\, 33\, 33)\; font-family: 'Century Gothic'\, 'ITC Avant Garde'\, Arial\, Helvetica\, sans-serif\; font-size: 14.666666984558105px\; text-align: -webkit-center\; white-space: pre-wrap\;"><strong>\,</strong></em><span style="color: rgb(33\, 33\, 33)\; font-family: 'Century Gothic'\, 'ITC Avant Garde'\, Arial\, Helvetica\, sans-serif\; font-size: 14.666666984558105px\; text-align: -webkit-center\; white-space: pre-wrap\;"> the Doubletree By Hilton will host us at their newly renovated facility and it will be a glamorous evening of fun for all including cocktails\, dinner\, dancing and casino-style entertainment! We&#39\;ll also have a brief awards presentation to recognize those businesses and individuals who have supported the Greater Irmo Chamber this year! <strong>Black Tie Optional</strong>. Special thanks to <strong>Shaw Industries</strong> for being our presenting sponsor this year!!</span>
LOCATION:2100 Bush River Rd. Columbia\, SC 29210
UID:e.1333.3297
SEQUENCE:3
DTSTAMP:20260423T035339Z
URL:https://business.greaterirmochamber.com/events/details/2019-greater-irmo-chamber-awards-night-gala-3297
END:VEVENT

END:VCALENDAR
