BEGIN:VCALENDAR
VERSION:2.0
PRODID:-//ChamberMaster//Event Calendar 2.0//EN
METHOD:PUBLISH
X-PUBLISHED-TTL:P3D
REFRESH-INTERVAL:P3D
CALSCALE:GREGORIAN
BEGIN:VEVENT
DTSTART:20191205T223000Z
DTEND:20191206T003000Z
X-MICROSOFT-CDO-ALLDAYEVENT:FALSE
SUMMARY:2019 Holiday Oyster Roast on the Lake!
DESCRIPTION:Join us for our Annual Holiday Oyster Roast!  We'll have plenty of Lowcountry oysters to shuck along with chili\, beer\, wine and lots of Chamber fellowship.  Very special thanks to the Woodmen Life Lodge for hosting our event again this year!
X-ALT-DESC;FMTTYPE=text/html:Join us for our <strong>Annual Holiday Oyster Roast</strong>! &nbsp\;We&#39\;ll have plenty of Lowcountry oysters to shuck along with chili\, beer\, wine and lots of Chamber fellowship. &nbsp\;Very special thanks to the <strong>Woodmen Life Lodge</strong> for hosting our event again this year!
LOCATION:The Woodmen Life Lodge on beautiful Lake Murray! 2000 Johnson Marina Rd. Chapin\, SC 29036
UID:e.1333.3387
SEQUENCE:3
DTSTAMP:20260422T144524Z
URL:https://business.greaterirmochamber.com/events/details/2019-holiday-oyster-roast-on-the-lake-3387
END:VEVENT

END:VCALENDAR
