BEGIN:VCALENDAR
VERSION:2.0
PRODID:-//ChamberMaster//Event Calendar 2.0//EN
METHOD:PUBLISH
X-PUBLISHED-TTL:P3D
REFRESH-INTERVAL:P3D
CALSCALE:GREGORIAN
BEGIN:VEVENT
DTSTART:20191010T160000Z
DTEND:20191010T233000Z
X-MICROSOFT-CDO-ALLDAYEVENT:FALSE
SUMMARY:2019 Irmo Chamber Golf Tournament
DESCRIPTION:Join us for the 2019 Irmo Chamber Golf Tournament!  19th Hole and Awards sponsored by Carrabba's Italian Grill!
X-ALT-DESC;FMTTYPE=text/html:Join us for the <strong>2019 Irmo Chamber Golf Tournament</strong>! &nbsp\;19th&nbsp\;Hole and Awards sponsored by Carrabba&#39\;s&nbsp\;Italian Grill!
LOCATION:Mid Carolina Club 3593 Kiblers Bridge Road Prosperity\, SC 29127
UID:e.1333.3370
SEQUENCE:3
DTSTAMP:20260422T173828Z
URL:https://business.greaterirmochamber.com/events/details/2019-irmo-chamber-golf-tournament-3370
END:VEVENT

END:VCALENDAR
