BEGIN:VCALENDAR
VERSION:2.0
PRODID:-//ChamberMaster//Event Calendar 2.0//EN
METHOD:PUBLISH
X-PUBLISHED-TTL:P3D
REFRESH-INTERVAL:P3D
CALSCALE:GREGORIAN
BEGIN:VEVENT
DTSTART:20190516T210000Z
DTEND:20190517T000000Z
X-MICROSOFT-CDO-ALLDAYEVENT:FALSE
SUMMARY:2019 Red White & Blues Wine Walk
DESCRIPTION:ADVANCED TICKETS NO LONGER AVAILABLE.  GATES OPEN AT 5PM!  TICKETS ARE $35/EACH \n\n\n\nJoin us for a beautiful evening of wine and food in Irmo Town Park!  We'll have live music from Rick Marsh and the Bluz Shak Jammers!
X-ALT-DESC;FMTTYPE=text/html:<strong>ADVANCED TICKETS NO LONGER AVAILABLE. &nbsp\;GATES OPEN AT 5PM! &nbsp\;TICKETS ARE $35/EACH </strong><br />\n<br />\nJoin us for a beautiful evening of wine and food in Irmo Town Park! &nbsp\;We&#39\;ll have live music from Rick Marsh and the Bluz Shak Jammers!<br />\n&nbsp\;
LOCATION:Irmo Town Park 1249 Lexington Ave. Irmo\, SC 29063
UID:e.1333.3309
SEQUENCE:3
DTSTAMP:20260423T021448Z
URL:https://business.greaterirmochamber.com/events/details/2019-red-white-blues-wine-walk-3309
END:VEVENT

END:VCALENDAR
