BEGIN:VCALENDAR
VERSION:2.0
PRODID:-//ChamberMaster//Event Calendar 2.0//EN
METHOD:PUBLISH
X-PUBLISHED-TTL:P3D
REFRESH-INTERVAL:P3D
CALSCALE:GREGORIAN
BEGIN:VEVENT
DTSTART:20230420T160000Z
DTEND:20230420T233000Z
X-MICROSOFT-CDO-ALLDAYEVENT:FALSE
SUMMARY:2023 Irmo Chamber Spring Golf Tournament
DESCRIPTION:Join us for the 2023 Irmo Chamber Golf Tournament at Mid Carolina Club on Thursday\, April 20\, 2023.  As in previous years\, our 2023 Spring Golf Outing format is Captain's Choice.  Special thanks to Optus Bank for presenting our tournament this Spring!\n\n\n\nRegistration and lunch will be at 12 NOON with a 1:30PM Shot Gun Start!\n\n\n\n19th Hole and Awards sponsored by Willie Jewell's Old School Bar-B-Q\n\n\n\nPlease note:  This is a rain or shine event.  The Chamber will not issue refunds in the event of inclement weather.
X-ALT-DESC;FMTTYPE=text/html:<span style="font-family: verdana\;"><span style="font-size: 18px\;">Join us for the </span><strong style="font-size: 16px\; font-family: verdana\;">2023 Irmo Chamber Golf Tournament </strong><span style="font-size: 18px\;">at </span><strong style="font-size: 16px\; font-family: verdana\;">Mid Carolina Club</strong><span style="font-size: 18px\;"> on </span><strong style="font-size: 16px\; font-family: verdana\;">Thursday\, April 20\, 2023</strong><span style="font-size: 18px\;">. &nbsp\;As in previous years\, our </span><strong style="font-size: 16px\; font-family: verdana\;">2023 Spring Golf Outing</strong><span style="font-size: 18px\;"> format is </span><strong style="font-size: 16px\; font-family: verdana\;">Captain&#39\;s Choice</strong><span style="font-size: 18px\;">. &nbsp\;Special thanks to </span><strong style="font-size: 18px\;">Optus B</strong><strong style="font-size: 18px\;">ank</strong><span style="font-size: 18px\;"> for presenting our&nbsp\;tournament this Spring!</span><br />\n<br />\n<span style="font-size: 18px\;">Registration and lunch will be at </span><strong style="font-size: 16px\; font-family: verdana\;">12 NOON</strong><span style="font-size: 18px\;"> with a </span><strong style="font-size: 16px\; font-family: verdana\;">1:30PM</strong> <strong style="font-size: 16px\; font-family: verdana\;">Shot Gun Start</strong><span style="font-size: 18px\;">!</span><br />\n<br />\n<strong style="font-size: 16px\; font-family: verdana\;">19th&nbsp\;Hole</strong><span style="font-size: 18px\;"> and Awards sponsored by <strong>Willie Jewell&#39\;s Old School B</strong></span><strong><span style="font-size: 16px\;">ar-B-Q</span></strong><br />\n<br />\n<strong style="font-size: 18px\;">Please note:</strong><span style="font-size: 18px\;"> &nbsp\;This is a rain or shine event. &nbsp\;The Chamber will not issue refunds in the event of inclement weather.&nbsp\;&nbsp\;</span></span>
LOCATION:
UID:e.1333.5044
SEQUENCE:3
DTSTAMP:20260424T182105Z
URL:https://business.greaterirmochamber.com/events/details/2023-irmo-chamber-spring-golf-tournament-5044
END:VEVENT

END:VCALENDAR
