BEGIN:VCALENDAR
VERSION:2.0
PRODID:-//ChamberMaster//Event Calendar 2.0//EN
METHOD:PUBLISH
X-PUBLISHED-TTL:P3D
REFRESH-INTERVAL:P3D
CALSCALE:GREGORIAN
BEGIN:VEVENT
DTSTART:20230430T150000Z
DTEND:20230430T220000Z
X-MICROSOFT-CDO-ALLDAYEVENT:FALSE
SUMMARY:2023 Irmo International Festival
DESCRIPTION:The 2023 Irmo International Festival is now accepting applications for international food and retail vendors.  Please reserve your spot today!\n\n\n	Non-Profit Vendors:  FREE (must provide 501C3 number)\n	All other vendors:  $75 \n	Electricity is available for a $15 fee.   \n	Please note:  a $3.00 convenience fee will be charged for online payments.  \n\n\n\n\nREGISTER HERE\n\n\n\nCelebrate the rich variety of art\, culture\, food\, and families of Irmo at the International Festival on April 30\, 2023.  From 11AM-6PM in Irmo Community Park\, enjoy performances and entertainment by instrumental and vocal musicians\, artists\, and dancers.  Student art work and poetry will be displayed.  International vendors\, food trucks and booths\, free art activities\, and games will be available.  Welcome spring with this family friendly event.  Add it to your calendar now!
X-ALT-DESC;FMTTYPE=text/html:<p><span style="font-family:verdana\;"><span style="font-size:16px\;">The <strong>2023</strong> <strong>Irmo International Festival</strong> is now accepting applications for international food and retail vendors. &nbsp\;Please reserve your spot today!</span></span></p>\n\n<ul>\n	<li><span style="font-family: verdana\; font-size: 16px\;">Non-Profit Vendors: &nbsp\;FREE (must provide 501C3 number)</span></li>\n	<li><span style="font-family: verdana\; font-size: 16px\;"><font face="verdana" size="3">All other vendors: &nbsp\;$75&nbsp\;</font></span></li>\n	<li><span style="font-family: verdana\; font-size: 16px\;"><font face="verdana" size="3"><font face="verdana" size="3">Electricity is available for a $15 fee. &nbsp\;&nbsp\;</font></font></span></li>\n	<li><span style="font-family: verdana\; font-size: 16px\;"><font face="verdana" size="3"><i style="font-family: verdana\; font-size: 16px\;">Please note: &nbsp\;a $3.00&nbsp\;</i><font face="verdana" size="3"><i>convenience</i></font><i style="font-family: verdana\; font-size: 16px\;">&nbsp\;fee will be charged for online payments. &nbsp\;</i></font></span></li>\n</ul>\n\n<p><br />\n<span style="font-family:verdana\;"><span style="caret-color: rgb(0\, 0\, 0)\; color: rgb(0\, 0\, 0)\; font-size: medium\;"><a href="https://www.irmoscinternationalfestival.com"><u><strong><span style="font-size:20px\;">REGISTER HERE</span></strong></u></a><br />\n<br />\nCelebrate the rich variety of art\, culture\, food\, and families of Irmo at the <strong>International Festival</strong> on <strong>April 30\, 2023</strong>.&nbsp\; From <strong>11AM-6PM</strong> in <strong>Irmo Community Park</strong>\, enjoy performances and entertainment by instrumental and vocal musicians\, artists\, and dancers.&nbsp\; Student art work and poetry will be displayed.&nbsp\; International vendors\, food trucks and booths\, free art activities\, and games will be available.&nbsp\; Welcome spring with this family friendly event.&nbsp\; Add it to your calendar now!</span></span></p>\n
LOCATION:Irmo Community Park 7507 Eastview Drive Irmo\, SC 29063
UID:e.1333.4736
SEQUENCE:3
DTSTAMP:20260424T194734Z
URL:https://business.greaterirmochamber.com/events/details/2023-irmo-international-festival-4736
END:VEVENT

END:VCALENDAR
