BEGIN:VCALENDAR
VERSION:2.0
PRODID:-//ChamberMaster//Event Calendar 2.0//EN
METHOD:PUBLISH
X-PUBLISHED-TTL:P3D
REFRESH-INTERVAL:P3D
CALSCALE:GREGORIAN
BEGIN:VEVENT
DTSTART:20160802T220000Z
DTEND:20160803T010000Z
X-MICROSOFT-CDO-ALLDAYEVENT:FALSE
SUMMARY:33rd ANNUAL NATIONAL NIGHT OUT
DESCRIPTION:On Tuesday\, August 2nd\, neighborhoods throughout Irmo are being invited to join forces with thousands of communities nationwide for the "33rd Annual National Night Out" (NNO) crime and drug prevention event.  National Night Out\, which is sponsored by the National Association of Town Watch (NATW) and co-sponsored locally by the Irmo Police Department\, will involve over 16\,728 communities from all 50 states\, U.S. territories\, Canadian cities and military bases around the world.  In all\, 38.3 million people are expected to participate in 'America's Night Out Against Crime'.
X-ALT-DESC;FMTTYPE=text/html:<p><span style="font-family:arial\;"><span style="color: rgb(0\, 0\, 0)\; font-size: 14px\;">On Tuesday\, August 2nd\, neighborhoods throughout Irmo are </span><span style="color: rgb(0\, 0\, 0)\; font-size: 14px\;">being invited to join forces with thousands of communities nationwide for&nbsp\;</span><span style="color: rgb(0\, 0\, 0)\; font-size: 14px\;">the &quot\;33rd Annual National Night Out&quot\; (NNO) crime and drug prevention event.</span>&nbsp\;&nbsp\;<span style="color: rgb(0\, 0\, 0)\; font-size: 14px\;">National Night Out\, which is sponsored by the National Association of Town&nbsp\;</span><span style="color: rgb(0\, 0\, 0)\; font-size: 14px\;">Watch (NATW) and&nbsp\;co-sponsored locally by the Irmo Police Department\, will&nbsp\;</span><span style="color: rgb(0\, 0\, 0)\; font-size: 14px\;">involve over 16\,728 communities from all 50 states\, U.S. territories\,&nbsp\;</span><span style="color: rgb(0\, 0\, 0)\; font-size: 14px\;">Canadian cities and military bases around the world. &nbsp\;In all\, 38.3 million&nbsp\;</span><span style="color: rgb(0\, 0\, 0)\; font-size: 14px\;">people are expected to participate in &#39\;America&#39\;s Night Out Against Crime&#39\;.</span></span></p>\n
LOCATION:From 6 to 9p.m.\, on August 2nd\, residents in neighborhoods throughout Irmo are asked to join the Irmo Police Department at the Community Park of Irmo\, and enjoy a hot dog cookout with police officers. The address to the park is 7507 Eastview Drive\, Irmo\, S.C. 29063 which can be accessed from Church Street (across from Frank's Car Wash) and/or from Eastview Drive (near the CVS Pharmacy at Lake Murray Blvd & College Street).
UID:e.1333.2434
SEQUENCE:3
DTSTAMP:20260425T033940Z
URL:https://business.greaterirmochamber.com/events/details/33rd-annual-national-night-out-08-02-2016-2434
END:VEVENT

END:VCALENDAR
