BEGIN:VCALENDAR
VERSION:2.0
PRODID:-//ChamberMaster//Event Calendar 2.0//EN
METHOD:PUBLISH
X-PUBLISHED-TTL:P3D
REFRESH-INTERVAL:P3D
CALSCALE:GREGORIAN
BEGIN:VEVENT
DTSTART:20190312T130000Z
DTEND:20190312T190000Z
X-MICROSOFT-CDO-ALLDAYEVENT:FALSE
SUMMARY:6th Annual Palmetto State Job Fair
DESCRIPTION:For the sixth consecutive year\, ECPI University's Columbia campus is leading a coalition of community organizations to host the Palmetto State Job Fair. The event will be held on Tuesday\, March 12\, 2019 from 9 am to 3 pm at the Columbia Metropolitan Convention Center\, located at 1101 Lincoln Street. Held in conjunction with area Chambers of Commerce\, including South Carolina\, Columbia\, Greater Irmo\, Greater Cayce West Columbia\, Greater Lexington\, and Kershaw County\, as well as Alpha Media\, this event is devoted to professional job seekers and is free and open to the public.
X-ALT-DESC;FMTTYPE=text/html:For the sixth consecutive year\, ECPI University&rsquo\;s Columbia campus is leading a coalition of community organizations to host the Palmetto State Job Fair. The event will be held on Tuesday\, March 12\, 2019 from 9 am to 3 pm at the Columbia Metropolitan Convention Center\, located at 1101 Lincoln Street. Held in conjunction with area Chambers of Commerce\, including South Carolina\, Columbia\, Greater Irmo\, Greater Cayce West Columbia\, Greater Lexington\, and Kershaw County\, as well as Alpha Media\, this event is devoted to professional job seekers and is free and open to the public.
LOCATION:Columbia Metropolitan Convention Center
UID:e.1333.3304
SEQUENCE:3
DTSTAMP:20260423T035502Z
URL:https://business.greaterirmochamber.com/events/details/6th-annual-palmetto-state-job-fair-3304
END:VEVENT

END:VCALENDAR
