BEGIN:VCALENDAR
VERSION:2.0
PRODID:-//ChamberMaster//Event Calendar 2.0//EN
METHOD:PUBLISH
X-PUBLISHED-TTL:P3D
REFRESH-INTERVAL:P3D
CALSCALE:GREGORIAN
BEGIN:VEVENT
DTSTART:20171014T210000Z
DTEND:20171014T230000Z
X-MICROSOFT-CDO-ALLDAYEVENT:FALSE
SUMMARY:7th Annual Haunted Hotel
DESCRIPTION:7th Annual Haunted Hotel!\n\nProceeds to benefit CAMP KEMO Programs.\n\n \n\nHyatt Place Columbia/Harbison is sponsoring the 7th Annual Haunted Hotel.\n\nProceeds from this event benefit CAMP KEMO Programs of Palmetto Health Children's  Hospital. CAMP KEMO Programs are a variety of psychosocial programs that were developed to meet the needs of patients\, siblings and parents who face challenges created by cancer.\n\n \n\nWe are asking for companies and organizations to sponsor a room so that the children from the Children's Center for Cancer and Blood Disorders at Palmetto Health Children's Hospital and their families can have a safe and fun place to Trick or Treat. The company/organization can come in during the day and decorate their room. At 5:00 p.m. the children will have dinner in our                   lobby and then they will begin trick-or-treating with their siblings around our property.  The children vote for their favorite room!
X-ALT-DESC;FMTTYPE=text/html:<div><span style="font-family:arial\;"><strong><span style="font-size:15.0pt">7<sup>th</sup> Annual Haunted Hotel!</span></strong><br />\n<strong><span style="font-size:12.0pt">Proceeds to benefit CAMP KEMO Programs.</span></strong></span><br />\n&nbsp\;<br />\n<span style="font-family:arial\,helvetica\,sans-serif">Hyatt Place Columbia/Harbison is sponsoring the 7<sup>th</sup> Annual Haunted Hotel.<br />\nProceeds from this event benefit CAMP KEMO Programs of Palmetto Health Children&rsquo\;s &nbsp\;Hospital. CAMP KEMO Programs are a variety of psychosocial programs that were developed to meet the needs of patients\, siblings and parents who face challenges created by cancer.<br />\n&nbsp\;<br />\n<strong><span style="font-size:13.0pt">W</span></strong>e are asking for companies and organizations to sponsor a room so that the children from the&nbsp\;Children&rsquo\;s Center for Cancer and Blood Disorders at Palmetto Health Children&rsquo\;s Hospital and&nbsp\;their families can have a safe and fun place to Trick or Treat. The company/organization can&nbsp\;come in during the day and decorate their room. At 5:00 p.m. the children will have dinner in our &nbsp\;&nbsp\;&nbsp\;&nbsp\;&nbsp\;&nbsp\;&nbsp\;&nbsp\;&nbsp\;&nbsp\;&nbsp\;&nbsp\;&nbsp\;&nbsp\;&nbsp\;&nbsp\;&nbsp\;&nbsp\;lobby and then they will begin trick-or-treating with their siblings around our property. &nbsp\;The children vote for their favorite room!<br />\n&nbsp\;</span></div>\n
LOCATION:Hyatt Place Columbia/Harbison 1130 Kinley Rd. Irmo\, SC 29063
UID:e.1333.2912
SEQUENCE:3
DTSTAMP:20260424T064748Z
URL:https://business.greaterirmochamber.com/events/details/7th-annual-haunted-hotel-2912
END:VEVENT

END:VCALENDAR
