BEGIN:VCALENDAR
VERSION:2.0
PRODID:-//ChamberMaster//Event Calendar 2.0//EN
METHOD:PUBLISH
X-PUBLISHED-TTL:P3D
REFRESH-INTERVAL:P3D
CALSCALE:GREGORIAN
BEGIN:VEVENT
DTSTART:20190619T230000Z
DTEND:20190620T000000Z
X-MICROSOFT-CDO-ALLDAYEVENT:FALSE
SUMMARY:8th Annual Columbia Fashion Week Night 1 - "Convocation- Pressed"
DESCRIPTION:Private event for members of the media. Bloggers\, journalists\, fashion influencers\, news anchors\, producers\, editors\, photographers etc are all welcomed to attend. RSVP with media credentials or invitation. Light refreshments\, gift bags\, schedule\, press kits\, and insider surprises available at this event.
X-ALT-DESC;FMTTYPE=text/html:Private event for members of the media. Bloggers\, journalists\, fashion influencers\, news anchors\, producers\, editors\, photographers etc are all welcomed to attend. RSVP with media credentials or invitation. Light refreshments\, gift bags\, schedule\, press kits\, and insider surprises available at this event.
LOCATION:Styled by Naida\, 607 Lady Street\, Columbia SC 29201
UID:e.1333.3329
SEQUENCE:3
DTSTAMP:20260422T231406Z
URL:https://business.greaterirmochamber.com/events/details/8th-annual-columbia-fashion-week-night-1-convocation-pressed-3329
END:VEVENT

END:VCALENDAR
