BEGIN:VCALENDAR
VERSION:2.0
PRODID:-//ChamberMaster//Event Calendar 2.0//EN
METHOD:PUBLISH
X-PUBLISHED-TTL:P3D
REFRESH-INTERVAL:P3D
CALSCALE:GREGORIAN
BEGIN:VEVENT
DTSTART:20190620T220000Z
DTEND:20190621T000000Z
X-MICROSOFT-CDO-ALLDAYEVENT:FALSE
SUMMARY:8th Annual Columbia Fashion Week Night 2 - "(Affiliated Event) Hairfrenzy Presents Masterclass by Definitely Stephanies"
DESCRIPTION:An officially sanctioned Columbia Fashion Week event! Come see the best of the best battle it out in this hair and makeup event. Support local makeup and hair gurus by watching them show their skills in a creative space. Network with other beauty industry professionals in the Columbia area. Event for current working makeup or hair stylists.
X-ALT-DESC;FMTTYPE=text/html:An officially sanctioned Columbia Fashion Week event! Come see the best of the best battle it out in this hair and makeup event. Support local makeup and hair gurus by watching them show their skills in a creative space. Network with other beauty industry professionals in the Columbia area. Event for current working makeup or hair stylists.
LOCATION:Lula Drake Wine Parlour\, 1635 Main St\, Columbia\, SC 29201
UID:e.1333.3330
SEQUENCE:3
DTSTAMP:20260422T231544Z
URL:https://business.greaterirmochamber.com/events/details/8th-annual-columbia-fashion-week-night-2-affiliated-event-hairfrenzy-presents-masterclass-by-definitely-stephanies-3330
END:VEVENT

END:VCALENDAR
