BEGIN:VCALENDAR
VERSION:2.0
PRODID:-//ChamberMaster//Event Calendar 2.0//EN
METHOD:PUBLISH
X-PUBLISHED-TTL:P3D
REFRESH-INTERVAL:P3D
CALSCALE:GREGORIAN
BEGIN:VEVENT
DTSTART:20190621T230000Z
DTEND:20190622T010000Z
X-MICROSOFT-CDO-ALLDAYEVENT:FALSE
SUMMARY:8th Annual Columbia Fashion Week Night 3 - " Homecoming- the 9th Annual Beautiful People Party"
DESCRIPTION:The 9th annual Beautiful People Party is our annual who's who event of the most stylish citizens of Columbia! Come out in your most fabulous and trendy attire and enjoy our live red carpet\, light refreshments\, drinks and see who won the 25 popular vote and the 25 director's picks! We will also be honoring the King and Queen of Columbia's fashion scene.
X-ALT-DESC;FMTTYPE=text/html:The 9th annual Beautiful People Party is our annual who&#39\;s who event of the most stylish citizens of Columbia! Come out in your most fabulous and trendy attire and enjoy our live red carpet\, light refreshments\, drinks and see who won the 25 popular vote and the 25 director&#39\;s picks! We will also be honoring the King and Queen of Columbia&rsquo\;s fashion scene.
LOCATION:Lula Drake Wine Parlour\, 1635 Main St\, Columbia\, SC 29201
UID:e.1333.3331
SEQUENCE:3
DTSTAMP:20260422T231830Z
URL:https://business.greaterirmochamber.com/events/details/8th-annual-columbia-fashion-week-night-3-homecoming-the-9th-annual-beautiful-people-party-3331
END:VEVENT

END:VCALENDAR
