BEGIN:VCALENDAR
VERSION:2.0
PRODID:-//ChamberMaster//Event Calendar 2.0//EN
METHOD:PUBLISH
X-PUBLISHED-TTL:P3D
REFRESH-INTERVAL:P3D
CALSCALE:GREGORIAN
BEGIN:VEVENT
DTSTART:20190622T170000Z
DTEND:20190622T190000Z
X-MICROSOFT-CDO-ALLDAYEVENT:FALSE
SUMMARY:8th Annual Columbia Fashion Week Night 4 (Event 1/3) - " Junior Class Show- Kids and Teens Runway Show"
DESCRIPTION:Designers and Retailers will showcase collections on the runway for children and teens. This is a fun night for the entire family to experience fashion week together. Bring the whole family for a fun night of shopping and children's shows!
X-ALT-DESC;FMTTYPE=text/html:Designers and Retailers will showcase collections on the runway for children and teens. This is a fun night for the entire family to experience fashion week together. Bring the whole family for a fun night of shopping and children&#39\;s shows!
LOCATION:Courtyard Marriot Downtown\, 630 Assembly Street Columbia SC 29201
UID:e.1333.3332
SEQUENCE:3
DTSTAMP:20260422T231735Z
URL:https://business.greaterirmochamber.com/events/details/8th-annual-columbia-fashion-week-night-4-event-1-3-junior-class-show-kids-and-teens-runway-show-3332
END:VEVENT

END:VCALENDAR
