BEGIN:VCALENDAR
VERSION:2.0
PRODID:-//ChamberMaster//Event Calendar 2.0//EN
METHOD:PUBLISH
X-PUBLISHED-TTL:P3D
REFRESH-INTERVAL:P3D
CALSCALE:GREGORIAN
BEGIN:VEVENT
DTSTART:20190622T210000Z
DTEND:20190623T000000Z
X-MICROSOFT-CDO-ALLDAYEVENT:FALSE
SUMMARY:8th Annual Columbia Fashion Week Night 4 (event 2/3) - "Senior Class Show- Adult Runway Shows "
DESCRIPTION:Enjoy incredible shopping with our vendors\, retailers and designers and over 100 of the most stunning models in the Carolinas as they walk the runway showcasing some of the season's hottest trends! Collections include couture\, streetwear\, plus size lines and more!
X-ALT-DESC;FMTTYPE=text/html:Enjoy incredible shopping with our vendors\, retailers and designers and over 100 of the most stunning models in the Carolinas as they walk the runway showcasing some of the season&rsquo\;s hottest trends! Collections include couture\, streetwear\, plus size lines and more!
LOCATION:Courtyard Marriott Downtown\, 630 Assembly Street Columbia SC 29201
UID:e.1333.3334
SEQUENCE:3
DTSTAMP:20260422T231734Z
URL:https://business.greaterirmochamber.com/events/details/8th-annual-columbia-fashion-week-night-4-event-2-3-senior-class-show-adult-runway-shows-3334
END:VEVENT

END:VCALENDAR
