BEGIN:VCALENDAR
VERSION:2.0
PRODID:-//ChamberMaster//Event Calendar 2.0//EN
METHOD:PUBLISH
X-PUBLISHED-TTL:P3D
REFRESH-INTERVAL:P3D
CALSCALE:GREGORIAN
BEGIN:VEVENT
DTSTART:20190623T020000Z
DTEND:20190623T030000Z
X-MICROSOFT-CDO-ALLDAYEVENT:FALSE
SUMMARY:8th Annual Columbia Fashion Week Night 4 (Event 3/3) - " Graduation- The After Party "
DESCRIPTION:Come celebrate with the entire team past and present of Columbia Fashion Week! Enjoy drinks refreshments and live music from DJ Puff. Help us recognize everyone who's ever impacted our event in style!
X-ALT-DESC;FMTTYPE=text/html:Come celebrate with the entire team past and present of Columbia Fashion Week! Enjoy drinks refreshments and live music from DJ Puff. Help us recognize everyone who&rsquo\;s ever impacted our event in style!
LOCATION:Wet Willies\, 800 Gervais Street Columbia\, SC 29201
UID:e.1333.3333
SEQUENCE:3
DTSTAMP:20260422T231734Z
URL:https://business.greaterirmochamber.com/events/details/8th-annual-columbia-fashion-week-night-4-event-3-3-graduation-the-after-party-3333
END:VEVENT

END:VCALENDAR
