BEGIN:VCALENDAR
VERSION:2.0
PRODID:-//ChamberMaster//Event Calendar 2.0//EN
METHOD:PUBLISH
X-PUBLISHED-TTL:P3D
REFRESH-INTERVAL:P3D
CALSCALE:GREGORIAN
BEGIN:VEVENT
DTSTART:20170428T173000Z
DTEND:20170428T183000Z
X-MICROSOFT-CDO-ALLDAYEVENT:FALSE
SUMMARY:9 Round (30 Minute Kickbox Fitness) Ribbon Cutting
DESCRIPTION:Join us to welcome 9 Round (30 Minute Kickbox Fitness) to our Chamber!!!\n\nRibbon Cutting at 1:45 p.m.\n\nLight Lunch Provided
X-ALT-DESC;FMTTYPE=text/html:Join us to welcome 9 Round (30 Minute Kickbox Fitness) to our Chamber!!!<br />\nRibbon Cutting at 1:45 p.m.<br />\nLight Lunch Provided
LOCATION:10739 Broad River Road\, Suite F Irmo\, SC
UID:e.1333.2544
SEQUENCE:3
DTSTAMP:20260424T155609Z
URL:https://business.greaterirmochamber.com/events/details/9-round-30-minute-kickbox-fitness-ribbon-cutting-2544
END:VEVENT

END:VCALENDAR
