BEGIN:VCALENDAR
VERSION:2.0
PRODID:-//ChamberMaster//Event Calendar 2.0//EN
METHOD:PUBLISH
X-PUBLISHED-TTL:P3D
REFRESH-INTERVAL:P3D
CALSCALE:GREGORIAN
BEGIN:VEVENT
DTSTART:20171012T173000Z
DTEND:20171013T010000Z
X-MICROSOFT-CDO-ALLDAYEVENT:FALSE
SUMMARY:9Round Irmo Kick Cancer Event!
DESCRIPTION:Join 9Round Irmo to help kick out Cancer!  Come in and 9Round Irmo will donate a penny for every kick that day to a local Cancer organization.  All participants will receive a FREE week pass to come back on a non-event day.  There will also be a bucket for any additional donations you would like to make to the Cancer foundations. \n\nBe sure to bring all of your friends (members and non-members) to help out this amazing cause -- their kicks count\, too!
X-ALT-DESC;FMTTYPE=text/html:Join 9Round Irmo&nbsp\;to help kick out Cancer! &nbsp\;Come in and 9Round&nbsp\;Irmo will donate a penny for every kick that day to a local Cancer organization. &nbsp\;All participants will receive a FREE week pass to come back on a non-event day. &nbsp\;There will also be a bucket for any additional donations you would like to make to the Cancer foundations.&nbsp\;<br />\nBe sure to bring all of your friends (members and non-members) to help out this amazing cause -- their kicks count\, too!
LOCATION:9Round 1100 Dutch Fork Road\, Suite F Irmo\, SC
UID:e.1333.2909
SEQUENCE:3
DTSTAMP:20260424T065050Z
URL:https://business.greaterirmochamber.com/events/details/9round-irmo-kick-cancer-event-2909
END:VEVENT

END:VCALENDAR
