BEGIN:VCALENDAR
VERSION:2.0
PRODID:-//ChamberMaster//Event Calendar 2.0//EN
METHOD:PUBLISH
X-PUBLISHED-TTL:P3D
REFRESH-INTERVAL:P3D
CALSCALE:GREGORIAN
BEGIN:VEVENT
DTSTART:20170328T220000Z
DTEND:20170328T233000Z
X-MICROSOFT-CDO-ALLDAYEVENT:FALSE
SUMMARY:A Closer Look at Your Social Security Benefits
DESCRIPTION:You're Invited!  Join us for an educational seminar.\n\nSocial Security will be an important part of the money you receive in retirement.  It is one of the last remaining sources of retirement income that has a cost of living adjustment.  Significant income can be lost if you do not prepare\, especially if you are married.\n\n\n\nDon't miss out on the information you need about your Social Security benefits.  We will Cover:\n\n- Individual benefits\n\n- Benefits for married couples\n\n- How to get the most out of your benefits
X-ALT-DESC;FMTTYPE=text/html:<strong>You&#39\;re Invited!</strong>&nbsp\; Join us for an educational seminar.<br />\nSocial Security will be an important part of the money you receive in retirement.&nbsp\; It is one of the last remaining sources of retirement income that has a cost of living adjustment.&nbsp\; Significant income can be lost if you do not prepare\, especially if you are married.<br />\n<br />\nDon&#39\;t miss out on the information you need about your Social Security benefits.&nbsp\; We will Cover:<br />\n- Individual benefits<br />\n- Benefits for married couples<br />\n- How to get the most out of your benefits<br />\n<br />\n&nbsp\;
LOCATION:Liberty Tap Room On The Lake 1602 Marina Rd Irmo\, SC 29063
UID:e.1333.2524
SEQUENCE:3
DTSTAMP:20260424T171604Z
URL:https://business.greaterirmochamber.com/events/details/a-closer-look-at-your-social-security-benefits-2524
END:VEVENT

END:VCALENDAR
