BEGIN:VCALENDAR
VERSION:2.0
PRODID:-//ChamberMaster//Event Calendar 2.0//EN
METHOD:PUBLISH
X-PUBLISHED-TTL:P3D
REFRESH-INTERVAL:P3D
CALSCALE:GREGORIAN
BEGIN:VEVENT
DTSTART:20170719T150000Z
DTEND:20170720T000000Z
X-MICROSOFT-CDO-ALLDAYEVENT:FALSE
SUMMARY:A Del Taco Summer Celebration
DESCRIPTION:Del Taco Summer Celebration\n\nDel Tacos - $1 each\, Limit 12 per customer\n\nValue Tacos - .59 each\, Limit 12 per customer
X-ALT-DESC;FMTTYPE=text/html:Del Taco Summer Celebration<br />\nDel Tacos - $1 each\, Limit 12 per customer<br />\nValue Tacos - .59 each\, Limit 12 per customer<br />\n&nbsp\;
LOCATION:145 Harbison Boulevard Columbia\, SC
UID:e.1333.2797
SEQUENCE:3
DTSTAMP:20260424T112259Z
URL:https://business.greaterirmochamber.com/events/details/a-del-taco-summer-celebration-2797
END:VEVENT

END:VCALENDAR
