BEGIN:VCALENDAR
VERSION:2.0
PRODID:-//ChamberMaster//Event Calendar 2.0//EN
METHOD:PUBLISH
X-PUBLISHED-TTL:P3D
REFRESH-INTERVAL:P3D
CALSCALE:GREGORIAN
BEGIN:VEVENT
DTSTART:20190721T220000Z
DTEND:20190721T230000Z
X-MICROSOFT-CDO-ALLDAYEVENT:FALSE
SUMMARY:A Night of Praise
DESCRIPTION:Join us for special music\, testimonies and congregational singing to praise God for all His blessings to us. Featuring Riverland Hills Choir\, Orchestra with 4 Heaven's Sake Quartet.
X-ALT-DESC;FMTTYPE=text/html:Join us for special music\, testimonies and congregational singing to praise God for all His blessings to us. Featuring Riverland Hills Choir\, Orchestra with 4 Heaven&#39\;s Sake Quartet.
LOCATION:Riverland Hills Baptist Church 201 Lake Murray Blvd. Irmo\, SC 29063
UID:e.1333.3336
SEQUENCE:3
DTSTAMP:20260422T213735Z
URL:https://business.greaterirmochamber.com/events/details/a-night-of-praise-3336
END:VEVENT

END:VCALENDAR
