BEGIN:VCALENDAR
VERSION:2.0
PRODID:-//ChamberMaster//Event Calendar 2.0//EN
METHOD:PUBLISH
X-PUBLISHED-TTL:P3D
REFRESH-INTERVAL:P3D
CALSCALE:GREGORIAN
BEGIN:VEVENT
DTSTART:20190417T163000Z
DTEND:20190417T173000Z
X-MICROSOFT-CDO-ALLDAYEVENT:FALSE
SUMMARY:A visit from Governor Henry McMaster
DESCRIPTION:Join us as we welcome Governor Henry McMaster to the Irmo Chamber!
X-ALT-DESC;FMTTYPE=text/html:<span style="font-size:14px\;"><span style="font-family:arial\;">Join us as we welcome Governor Henry McMaster to the Irmo Chamber!</span></span>
LOCATION:Greater Irmo Chamber 1235 Columbia Ave. Irmo\, SC 29063
UID:e.1333.3317
SEQUENCE:3
DTSTAMP:20260423T021934Z
URL:https://business.greaterirmochamber.com/events/details/a-visit-from-governor-henry-mcmaster-3317
END:VEVENT

END:VCALENDAR
