BEGIN:VCALENDAR
VERSION:2.0
PRODID:-//ChamberMaster//Event Calendar 2.0//EN
METHOD:PUBLISH
X-PUBLISHED-TTL:P3D
REFRESH-INTERVAL:P3D
CALSCALE:GREGORIAN
BEGIN:VEVENT
DTSTART:20161018T223000Z
DTEND:20161019T000000Z
X-MICROSOFT-CDO-ALLDAYEVENT:FALSE
SUMMARY:AAA Carolinas presents Great Britain and Ireland
DESCRIPTION:Join the staff of AAA Carolinas to learn about the different ways to travel through Ireland or Great Britain.   Whether you want to take a tour with a tour company or travel independently\, you will learn about the great sites of these beautiful countries.   RSVP Required.
X-ALT-DESC;FMTTYPE=text/html:Join the staff of AAA Carolinas to learn about the different ways to travel through Ireland or Great Britain. &nbsp\; Whether you want to take a tour with a tour company or travel independently\, you will learn about the great sites of these beautiful countries. &nbsp\; RSVP Required.
LOCATION:AAA Carolinas\, 929 Lake Murray Blvd store location.
UID:e.1333.2488
SEQUENCE:3
DTSTAMP:20260425T003018Z
URL:https://business.greaterirmochamber.com/events/details/aaa-carolinas-presents-great-britain-and-ireland-2488
END:VEVENT

END:VCALENDAR
