BEGIN:VCALENDAR
VERSION:2.0
PRODID:-//ChamberMaster//Event Calendar 2.0//EN
METHOD:PUBLISH
X-PUBLISHED-TTL:P3D
REFRESH-INTERVAL:P3D
CALSCALE:GREGORIAN
BEGIN:VEVENT
DTSTART:20200311T173000Z
DTEND:20200311T190000Z
X-MICROSOFT-CDO-ALLDAYEVENT:FALSE
SUMMARY:AAA Travel: Insight Vacations Travel Talk
DESCRIPTION:Come join us for a Travel Talk with AAA Travel and Insight Vacations!  Light refreshments will be provided.
X-ALT-DESC;FMTTYPE=text/html:Come join us for a Travel Talk with AAA Travel and Insight Vacations! &nbsp\;Light refreshments will be provided.
LOCATION:Irmo Chamber 1235 Columbia AVe. Irmo\, SC 29063
UID:e.1333.3681
SEQUENCE:3
DTSTAMP:20260422T113330Z
URL:https://business.greaterirmochamber.com/events/details/aaa-travel-insight-vacations-travel-talk-3681
END:VEVENT

END:VCALENDAR
