BEGIN:VCALENDAR
VERSION:2.0
PRODID:-//ChamberMaster//Event Calendar 2.0//EN
METHOD:PUBLISH
X-PUBLISHED-TTL:P3D
REFRESH-INTERVAL:P3D
CALSCALE:GREGORIAN
BEGIN:VEVENT
DTSTART:20120403T220000Z
DTEND:20120403T230000Z
X-MICROSOFT-CDO-ALLDAYEVENT:FALSE
SUMMARY:Aid and Attendence Speaker
DESCRIPTION:If you are interested in learning more about VA benefits then you will not want to miss this seminar. You can learn all you need to know about the benefits that are available and how to apply for these benefits.
X-ALT-DESC;FMTTYPE=text/html:If you are interested in learning more about VA benefits then you will not want to miss this seminar. You can learn all you need to know about the benefits that are available and how to apply for these benefits. 
LOCATION:120 Fairforest Road Columbia SC 29212
UID:e.1333.182
SEQUENCE:3
DTSTAMP:20260422T060527Z
URL:https://business.greaterirmochamber.com/events/details/aid-and-attendence-speaker-04-03-2012-182
END:VEVENT

END:VCALENDAR
