BEGIN:VCALENDAR
VERSION:2.0
PRODID:-//ChamberMaster//Event Calendar 2.0//EN
METHOD:PUBLISH
X-PUBLISHED-TTL:P3D
REFRESH-INTERVAL:P3D
CALSCALE:GREGORIAN
BEGIN:VEVENT
DTSTART:20180918T153000Z
DTEND:20180918T163000Z
X-MICROSOFT-CDO-ALLDAYEVENT:FALSE
SUMMARY:Allstate: The Beaty Agency Ribbon Cutting
DESCRIPTION:Join us the welcome Allstate: The Beaty Agency to our Chamber!\n\nRibbon cutting at 11:45 a.m.\n\nA light lunch will be provided!
X-ALT-DESC;FMTTYPE=text/html:Join us the welcome Allstate: The Beaty Agency to our Chamber!<br />\nRibbon cutting at 11:45 a.m.<br />\nA light lunch will be provided!
LOCATION:7425 College Street\, Suite 102 Irmo\, SC
UID:e.1333.3255
SEQUENCE:3
DTSTAMP:20260423T150639Z
URL:https://business.greaterirmochamber.com/events/details/allstate-the-beaty-agency-ribbon-cutting-3255
END:VEVENT

END:VCALENDAR
