BEGIN:VCALENDAR
VERSION:2.0
PRODID:-//ChamberMaster//Event Calendar 2.0//EN
METHOD:PUBLISH
X-PUBLISHED-TTL:P3D
REFRESH-INTERVAL:P3D
CALSCALE:GREGORIAN
BEGIN:VEVENT
DTSTART:20161006T200000Z
DTEND:20161006T230000Z
X-MICROSOFT-CDO-ALLDAYEVENT:FALSE
SUMMARY:Allstate: The Salmon Agency Ribbon Cutting
DESCRIPTION:Join us to welcome Allstate: The Salmon Agency to our Chamber.\n\nThe ribbon cutting will be around 5:15 p.m.
X-ALT-DESC;FMTTYPE=text/html:Join us to welcome Allstate: The Salmon Agency to our Chamber.<br />\nThe ribbon cutting will be around 5:15 p.m.
LOCATION:100 Obrian Way Irmo\, SC
UID:e.1333.2484
SEQUENCE:3
DTSTAMP:20260425T003114Z
URL:https://business.greaterirmochamber.com/events/details/allstate-the-salmon-agency-ribbon-cutting-2484
END:VEVENT

END:VCALENDAR
