BEGIN:VCALENDAR
VERSION:2.0
PRODID:-//ChamberMaster//Event Calendar 2.0//EN
METHOD:PUBLISH
X-PUBLISHED-TTL:P3D
REFRESH-INTERVAL:P3D
CALSCALE:GREGORIAN
BEGIN:VEVENT
DTSTART:20180814T153000Z
DTEND:20180814T163000Z
X-MICROSOFT-CDO-ALLDAYEVENT:FALSE
SUMMARY:Aloft Hotel Grand Opening
DESCRIPTION:Join us for Aloft - Harbison Grand Opening & Ribbon Cutting!!!!\n\nA light lunch will be provided!\n\nRibbon cutting at 11:45 a.m.
X-ALT-DESC;FMTTYPE=text/html:Join us for Aloft - Harbison Grand Opening &amp\; Ribbon Cutting!!!!<br />\nA light lunch will be provided!<br />\nRibbon cutting at 11:45 a.m.
LOCATION:217 Lanneau Court Columbia\, SC 29212
UID:e.1333.3220
SEQUENCE:3
DTSTAMP:20260423T162349Z
URL:https://business.greaterirmochamber.com/events/details/aloft-hotel-grand-opening-3220
END:VEVENT

END:VCALENDAR
