BEGIN:VCALENDAR
VERSION:2.0
PRODID:-//ChamberMaster//Event Calendar 2.0//EN
METHOD:PUBLISH
X-PUBLISHED-TTL:P3D
REFRESH-INTERVAL:P3D
CALSCALE:GREGORIAN
BEGIN:VEVENT
DTSTART:20171012T220000Z
DTEND:20171026T233000Z
X-MICROSOFT-CDO-ALLDAYEVENT:FALSE
SUMMARY:Alzheimer's Caregivers Series
DESCRIPTION:Join the experts for a three-part educational series for caregivers of individuals with Alzheimer's or dementia. The series will include topics covering family dynamics\, expectations for the varying levels of healthcare\, and how to deal with transitions and the emotions that often accompany these transitions. The event is free to attend and light refreshments will be served at each session. To register\, contact Dana Kurtz at 803-732-8800 or dkurtz@theheritageatlowman.org.
X-ALT-DESC;FMTTYPE=text/html:Join the experts for a three-part educational series for caregivers of individuals with Alzheimer&rsquo\;s or dementia. The series will include topics covering family dynamics\, expectations for the varying levels of healthcare\, and how to deal with transitions and the emotions that often accompany these transitions. The event is free to attend and light refreshments will be served at each session. To register\, contact Dana Kurtz at 803-732-8800 or dkurtz@theheritageatlowman.org.
LOCATION:The Heritage at Lowman 2101 Dutch Fork Road Chapin\, SC 29036
UID:e.1333.2908
SEQUENCE:3
DTSTAMP:20260424T065130Z
URL:https://business.greaterirmochamber.com/events/details/alzheimer-s-caregivers-series-2908
END:VEVENT

END:VCALENDAR
