BEGIN:VCALENDAR
VERSION:2.0
PRODID:-//ChamberMaster//Event Calendar 2.0//EN
METHOD:PUBLISH
X-PUBLISHED-TTL:P3D
REFRESH-INTERVAL:P3D
CALSCALE:GREGORIAN
BEGIN:VEVENT
DTSTART:20180220T153000Z
DTEND:20180220T190000Z
X-MICROSOFT-CDO-ALLDAYEVENT:FALSE
SUMMARY:Annual Luncheon for District 5 Retirees
DESCRIPTION:On Feb. 20 the School District 5 Education Foundation is sponsoring the 7th annual lunch for all retired school district employees at Seven Oaks Park.  Any community business/organization/agency/artist wanting to set up a table to sell their products or provide information about their services are welcome.  There are usually 300-350 retirees in attendance at this lunch event each year.  The tables will open at 10:30am and can stay open until 2pm.  Set up can begin at 9 am.  Contact Mary Kennerly at  mkennerly001@sc.rr.com for details and more information. \n\n\n\nThere is no cost to you.  You may give the retirees information and answer questions about services and programs you have available that may be of interest and help for them.  You may sell your products. Please provide your own table.  You may come to set up anytime after 9:00 am.  You or a colleague may stay with your items or you may leave them for the retirees to pick up if they are free.
X-ALT-DESC;FMTTYPE=text/html:On Feb. 20 the School District 5 Education Foundation is sponsoring the 7<sup>th</sup> annual lunch for all retired school district employees at Seven Oaks Park.&nbsp\; Any community business/organization/agency/artist wanting to set up a table to sell their products or provide information about their services are welcome.&nbsp\; There are usually 300-350 retirees in attendance at this lunch event each year.&nbsp\; The tables will open at 10:30am and can stay open until 2pm.&nbsp\; Set up can begin at 9 am.&nbsp\; Contact Mary Kennerly at&nbsp\; <a href="mailto:mkennerly001@sc.rr.com">mkennerly001@sc.rr.com</a> for details and more information.&nbsp\;<br />\n<br />\n<strong><span style="font-family:calibri"><span style="font-size:10.0pt">There is no cost to you</span></span></strong><span style="font-family:calibri"><span style="font-size:10.0pt">.&nbsp\; You may give the retirees information and answer questions about services and programs you have available that may be of interest and help for them.&nbsp\; You may sell your products. Please provide your own table.&nbsp\; You may come to set up anytime after 9:00 am.&nbsp\; You or a colleague may stay with your items or you may leave them for the retirees to pick up if they are free.</span></span><br />\n<br />\n<br />\n&nbsp\;
LOCATION:Seven Oaks Park (200 Leisure Lane\, Columbia\, 29210)
UID:e.1333.2944
SEQUENCE:3
DTSTAMP:20260424T020512Z
URL:https://business.greaterirmochamber.com/events/details/annual-luncheon-for-district-5-retirees-2944
END:VEVENT

END:VCALENDAR
