BEGIN:VCALENDAR
VERSION:2.0
PRODID:-//ChamberMaster//Event Calendar 2.0//EN
METHOD:PUBLISH
X-PUBLISHED-TTL:P3D
REFRESH-INTERVAL:P3D
CALSCALE:GREGORIAN
BEGIN:VEVENT
DTSTART:20190413T160000Z
DTEND:20190413T160000Z
X-MICROSOFT-CDO-ALLDAYEVENT:FALSE
SUMMARY:Aphra Behn – wanton woman of wit! : HT@MTC Performance Incubator
DESCRIPTION:Set against the backdrop of lawless 1660s London\, Aphra Behn   wanton woman of wit! charts the trials and tribulations of women's equality in a witty\, fast-moving theatrical style.
X-ALT-DESC;FMTTYPE=text/html:Set against the backdrop of lawless 1660s London\,&nbsp\;Aphra Behn &ndash\; wanton woman of wit!&nbsp\;charts the trials and tribulations of women&rsquo\;s equality in a witty\, fast-moving theatrical style.
LOCATION:Harbison Theatre at Midlands Technical College 7300 College Street Irmo\, SC 29063
UID:e.1333.3245
SEQUENCE:3
DTSTAMP:20260423T023328Z
URL:https://business.greaterirmochamber.com/events/details/aphra-behn-wanton-woman-of-wit-ht-mtc-performance-incubator-3245
END:VEVENT

END:VCALENDAR
