BEGIN:VCALENDAR
VERSION:2.0
PRODID:-//ChamberMaster//Event Calendar 2.0//EN
METHOD:PUBLISH
X-PUBLISHED-TTL:P3D
REFRESH-INTERVAL:P3D
CALSCALE:GREGORIAN
BEGIN:VEVENT
DTSTART:20170412T153000Z
DTEND:20170412T170000Z
X-MICROSOFT-CDO-ALLDAYEVENT:FALSE
SUMMARY:April 2017 Monthly Luncheon
DESCRIPTION:Join us for our monthly luncheon!\n\nProgram:  David Kerr\, Director of Public Safety\, Lex. Co.\n\nCaterer:  Buffalo Wild Wings\n\n\n\nThank you to our sponsor:  \n\n\n\nWaters Edge at Harbison\n\n250 Crossbow Drive\, Columbia\, SC 29212\n\n803-732-9909 \n\nwww.watersedgeharbison.com
X-ALT-DESC;FMTTYPE=text/html:<p><span style="font-size:14px\;"><span style="font-family:verdana\;">Join us for our monthly luncheon!<br />\nProgram: &nbsp\;David Kerr\, Director of Public Safety\, Lex. Co.<br />\nCaterer: &nbsp\;Buffalo Wild Wings<br />\n<br />\nThank you to our sponsor: &nbsp\;<br />\n<br />\nWaters Edge at Harbison<br />\n<span style="color: rgb(0\, 0\, 0)\;">250 Crossbow Drive\, Columbia\, SC 29212</span></span></span><br />\n<span style="font-size:14px\;"><span style="font-family:verdana\;">803-732-9909&nbsp\;</span></span><br />\n<span style="font-size:14px\;"><span style="font-family:verdana\;"><a href="http://www.watersedgeharbison.com/">www.watersedgeharbison.com</a></span></span></p>\n
LOCATION:St. Andrews Presbyterian Church 6952 St. Andrews Road Columbia\, SC 29212
UID:e.1333.2537
SEQUENCE:3
DTSTAMP:20260424T155129Z
URL:https://business.greaterirmochamber.com/events/details/april-2017-monthly-luncheon-2537
END:VEVENT

END:VCALENDAR
