BEGIN:VCALENDAR
VERSION:2.0
PRODID:-//ChamberMaster//Event Calendar 2.0//EN
METHOD:PUBLISH
X-PUBLISHED-TTL:P3D
REFRESH-INTERVAL:P3D
CALSCALE:GREGORIAN
BEGIN:VEVENT
DTSTART:20180411T153000Z
DTEND:20180411T170000Z
X-MICROSOFT-CDO-ALLDAYEVENT:FALSE
SUMMARY:April 2018 Chamber Luncheon
DESCRIPTION:Please join us for our April Chamber Luncheon on Wednesday\, April 11\, 2018 from 11:30am-1pm at St. Andrews Presbyterian Church.  This month\, we will welcome First Sergeant Hunter Robinson\, a Game Warden in Lexington County with the SC Department of Natural Resources Law Enforcement Division.  Special thanks to the team at Fully Promoted for sponsoring this event and they will have a fun summer promotional item for everyone who attends!   We're excited to have Tim's Catering serve our lunch!
X-ALT-DESC;FMTTYPE=text/html:<span style="font-family: arial\;">Please join us for our <strong>April</strong></span><strong style="font-family: arial\;">&nbsp\;Chamber Luncheon</strong><span style="font-family: arial\;">&nbsp\;on&nbsp\;</span><strong style="font-family: arial\;">Wednesday\, April 11\, 2018</strong><span style="font-family: arial\;">&nbsp\;from&nbsp\;</span><strong style="font-family: arial\;">11:30am-1pm</strong><span style="font-family: arial\;">&nbsp\;at&nbsp\;</span><strong style="font-family: arial\;">St. Andrews Presbyterian Church</strong><span style="font-family: arial\;">. &nbsp\;This month\, we will welcome</span><font face="arial">&nbsp\;<strong>First Sergeant Hunter Robinson</strong>\, a Game Warden in Lexington County with the <strong>SC Department of Natural Resources Law Enforcement Division</strong>. &nbsp\;Special thanks to the team at <strong>Fully Promoted</strong> for sponsoring this event and they will have a fun summer promotional item for everyone who attends! &nbsp\; We&#39\;re excited to have <strong>Tim&#39\;s Catering</strong> serve our lunch!</font>
LOCATION:St. Andrews Presbyterian Church 6952 St. Andrews Rd. Columbia\, SC 29212
UID:e.1333.2987
SEQUENCE:3
DTSTAMP:20260423T210931Z
URL:https://business.greaterirmochamber.com/events/details/april-2018-chamber-luncheon-2987
END:VEVENT

END:VCALENDAR
