BEGIN:VCALENDAR
VERSION:2.0
PRODID:-//ChamberMaster//Event Calendar 2.0//EN
METHOD:PUBLISH
X-PUBLISHED-TTL:P3D
REFRESH-INTERVAL:P3D
CALSCALE:GREGORIAN
BEGIN:VEVENT
DTSTART:20190410T153000Z
DTEND:20190410T170000Z
X-MICROSOFT-CDO-ALLDAYEVENT:FALSE
SUMMARY:April 2019 Chamber Luncheon
DESCRIPTION:Please join us for our April Chamber Luncheon on Wednesday\, April 10\, 2019 from 11:30am-1pm at St. Andrews Presbyterian Church.   This month\, we will welcome SC Treasurer Curtis Loftis to our podium.  Special thanks to our partners at CresCom Bank (Have a Nice Bank!) for sponsoring this event! Lunch will be provided by Tim's Catering.
X-ALT-DESC;FMTTYPE=text/html:<span style="font-family: arial\;">Please join us for our <strong>April</strong></span><strong style="font-family: arial\;">&nbsp\;Chamber Luncheon</strong><span style="font-family: arial\;">&nbsp\;on&nbsp\;</span><strong style="font-family: arial\;">Wednesday\, April 10\, 2019</strong><span style="font-family: arial\;">&nbsp\;from&nbsp\;</span><strong style="font-family: arial\;">11:30am-1pm</strong><span style="font-family: arial\;">&nbsp\;at&nbsp\;</span><strong style="font-family: arial\;">St. Andrews Presbyterian Church</strong><span style="font-family: arial\;">. &nbsp\;</span><font face="arial">&nbsp\;This month\, we will welcome <strong>SC Treasurer Curtis Loftis</strong> to our podium. &nbsp\;Special thanks to our partners at&nbsp\;<strong>CresCom Bank (Have a Nice Bank!)&nbsp\;</strong>for sponsoring this event! Lunch will be provided by <strong>Tim&#39\;s Catering</strong>.</font>
LOCATION:St. Andrews Presbyterian Church 6952 St. Andrews Rd. Columbia\, SC 29212
UID:e.1333.3301
SEQUENCE:3
DTSTAMP:20260423T022850Z
URL:https://business.greaterirmochamber.com/events/details/april-2019-chamber-luncheon-3301
END:VEVENT

END:VCALENDAR
