BEGIN:VCALENDAR
VERSION:2.0
PRODID:-//ChamberMaster//Event Calendar 2.0//EN
METHOD:PUBLISH
X-PUBLISHED-TTL:P3D
REFRESH-INTERVAL:P3D
CALSCALE:GREGORIAN
BEGIN:VEVENT
DTSTART:20180419T210000Z
DTEND:20180419T230000Z
X-MICROSOFT-CDO-ALLDAYEVENT:FALSE
SUMMARY:April Chamber After Hours and Ribbon Cutting
DESCRIPTION:Come enjoy some refreshments and networking out on the patio here at the Chamber.  We'll also welcome Cynthia Giles and Cut Throat Marketing to our Chamber with a ribbon cutting. (Yes\, we know she's been around a while!)
X-ALT-DESC;FMTTYPE=text/html:Come enjoy some refreshments and networking out on the patio here at the Chamber. &nbsp\;We&#39\;ll also welcome Cynthia&nbsp\;Giles and Cut Throat Marketing to our Chamber with a ribbon cutting. (Yes\, we know she&#39\;s been around a while!)
LOCATION:Greater Irmo Chamber of Commerce 1235 Columbia Ave. Irmo\, SC 29063
UID:e.1333.2985
SEQUENCE:3
DTSTAMP:20260423T230220Z
URL:https://business.greaterirmochamber.com/events/details/april-chamber-after-hours-and-ribbon-cutting-2985
END:VEVENT

END:VCALENDAR
