BEGIN:VCALENDAR
VERSION:2.0
PRODID:-//ChamberMaster//Event Calendar 2.0//EN
METHOD:PUBLISH
X-PUBLISHED-TTL:P3D
REFRESH-INTERVAL:P3D
CALSCALE:GREGORIAN
BEGIN:VEVENT
DTSTART:20170406T113000Z
DTEND:20170406T123000Z
X-MICROSOFT-CDO-ALLDAYEVENT:FALSE
SUMMARY:April Chamber Breakfast
DESCRIPTION:Join us for a fun hour of networking and a delicious breakfast!  Only 25 seats available so register now!\n\n\n\nSpecial thanks to our newest Chamber Members\, Lee and Susan Adams of Growing Healthy/Neolife\, for sponsoring this event!
X-ALT-DESC;FMTTYPE=text/html:Join us for a fun hour of networking and a delicious breakfast! &nbsp\;Only 25 seats available so register now!<br />\n<br />\nSpecial thanks to our newest Chamber Members\, Lee and Susan Adams of Growing Healthy/Neolife\, for sponsoring this event!
LOCATION:Greater Irmo Chamber Building 1235 Columbia Ave. Irmo\, SC 29063
UID:e.1333.2526
SEQUENCE:3
DTSTAMP:20260424T155021Z
URL:https://business.greaterirmochamber.com/events/details/april-chamber-breakfast-2526
END:VEVENT

END:VCALENDAR
